BEGIN:VCALENDAR
VERSION:2.0
PRODID:-//ChamberMaster//Event Calendar 2.0//EN
METHOD:PUBLISH
X-PUBLISHED-TTL:P1H
REFRESH-INTERVAL:P1H
CALSCALE:GREGORIAN
BEGIN:VTIMEZONE
TZID:America/New_York
BEGIN:DAYLIGHT
RRULE:FREQ=YEARLY;BYMONTH=3;BYDAY=2SU
DTSTART:20070101T000000
TZOFFSETFROM:-0500
TZOFFSETTO:-0400
TZNAME:Eastern Daylight Time
END:DAYLIGHT
BEGIN:STANDARD
RRULE:FREQ=YEARLY;BYMONTH=11;BYDAY=1SU
DTSTART:20070101T000000
TZOFFSETFROM:-0400
TZOFFSETTO:-0500
TZNAME:Eastern Standard Time
END:STANDARD
END:VTIMEZONE
BEGIN:VEVENT
DTSTART;VALUE=DATE:20260604
DTEND;VALUE=DATE:20260605
TRANSP:TRANSPARENT
X-MICROSOFT-CDO-ALLDAYEVENT:TRUE
SUMMARY:Wastewater Laboratory Analyst
DESCRIPTION:ABOUTThis class is designed for anyone interested in obtaining the GA Wastewater Laboratory Analyst certification. This course is a classroom/laboratory and online hybrid where trainees will perform many hands-on exercises. The course provides the required training hours for the GA Wastewater Laboratory Analyst certification (27 hours) meets the WPI Needs-to-Know topics.COURSE SCHEDULEIn person attendance is required. The class will meet on the TWT campus once a week\, on Thursdays\, from June 4th through August 6th\, from 9am-3pm. Weekly online assignments will be posted on Google Classroom. In-person attendance and completion of weekly virtual assignments are required for attendance. MAJOR TOPICS: Plant OperationSampling Process Control vs. Regulatory Reporting Solution Chemistry Laboratory Equipment and InstrumentationCalibration QA/QC Safety Hands-on ProceduresWHO CAN ATTEND AND REGISTRATIONThis class is for entry level trainees\, who are not currently working at a utility. Registration fees are covered by TWT\, through a grant. To register\, follow the steps below:Visit WaterNeedsYou.org to learn more about course offerings and to complete the Career Navigation resources.Complete the Career Navigation resources\, housed on the WaterNeedsYou.org website. Submit the inquiry form application form (found in the Career Navigation resources).Tour a water or wastewater facility\, and then submit a registration document (provided after tour).Attend classes and start your career in water!
X-ALT-DESC;FMTTYPE=text/html:<!DOCTYPE html><html><head><title></title></head><body aria-disabled="false"><p><strong fr-original-style="" style="font-weight: 700\;"><span style="font-family: Arial\,Helvetica\,sans-serif\;">ABOUT</span></strong></p><p><span style="font-family: Arial\,Helvetica\,sans-serif\;"><span style="color: rgb(0\, 0\, 0)\; font-size: medium\; font-style: normal\; font-variant-ligatures: normal\; font-variant-caps: normal\; font-weight: 400\; letter-spacing: normal\; orphans: 2\; text-align: start\; text-indent: 0px\; text-transform: none\; widows: 2\; word-spacing: 0px\; -webkit-text-stroke-width: 0px\; white-space: normal\; text-decoration-thickness: initial\; text-decoration-style: initial\; text-decoration-color: initial\; float: none\; display: inline !important\;">This class is designed for anyone interested in obtaining the GA Wastewater Laboratory Analyst certification. This course is a classroom/laboratory and online hybrid where trainees will perform many hands-on exercises. The course provides the required training hours for the GA Wastewater Laboratory Analyst certification (27 hours) meets the WPI Needs-to-Know topics.</span></span></p><p><span style="font-family: Arial\,Helvetica\,sans-serif\;"><strong fr-original-style="" style="font-weight: 700\;">COURSE SCHEDULE</strong></span></p><p><span style="font-family: Arial\,Helvetica\,sans-serif\;">In person attendance is required. The class will meet on the TWT campus once a week\, on Thursdays\, from June 4th through August 6th\, from 9am-3pm. Weekly online assignments will be posted on Google Classroom. In-person attendance and completion of weekly virtual assignments are required for attendance.&nbsp\;</span></p><p><span style="font-family: Arial\,Helvetica\,sans-serif\;"><strong fr-original-style="" style="font-weight: 700\;">MAJOR TOPICS:&nbsp\;</strong></span></p><ul fr-original-style="" style="list-style-position: inside\;"><li style="font-family: Arial\, Helvetica\, sans-serif\;">Plant Operation</li><li style="font-family: Arial\, Helvetica\, sans-serif\;">Sampling&nbsp\;</li><li style="font-family: Arial\, Helvetica\, sans-serif\;">Process Control vs. Regulatory Reporting&nbsp\;</li><li style="font-family: Arial\, Helvetica\, sans-serif\;">Solution Chemistry&nbsp\;</li><li style="font-family: Arial\, Helvetica\, sans-serif\;">Laboratory Equipment and Instrumentation</li><li style="font-family: Arial\, Helvetica\, sans-serif\;">Calibration&nbsp\;</li><li style="font-family: Arial\, Helvetica\, sans-serif\;">QA/QC&nbsp\;</li><li style="font-family: Arial\, Helvetica\, sans-serif\;">Safety&nbsp\;</li><li style="font-family: Arial\, Helvetica\, sans-serif\;">Hands-on Procedures</li></ul><p><span style="font-family: Arial\,Helvetica\,sans-serif\;"><strong fr-original-style="" style="font-weight: 700\;">WHO CAN ATTEND AND REGISTRATION</strong></span></p><p><span style="font-family: Arial\,Helvetica\,sans-serif\;">This class is for entry level trainees\, who are not currently working at a utility. Registration fees are covered by TWT\, through a grant. To register\, follow the steps below:</span></p><ol fr-original-style="" style="list-style-position: inside\;"><li style="font-family: Arial\, Helvetica\, sans-serif\;">Visit <a fr-original-style="" href="//WaterNeedsYou.org" style="user-select: auto\;">WaterNeedsYou.org</a> to learn more about course offerings and to complete the Career Navigation resources.</li><li style="font-family: Arial\, Helvetica\, sans-serif\;">Complete the Career Navigation resources\, housed on the <a fr-original-style="" href="//WaterNeedsYou.org" style="user-select: auto\;">WaterNeedsYou.org</a> website.&nbsp\;</li><li style="font-family: Arial\, Helvetica\, sans-serif\;">Submit the inquiry form application form (found in the Career Navigation resources).</li><li style="font-family: Arial\, Helvetica\, sans-serif\;">Tour a water or wastewater facility\, and then submit a registration document (provided after tour).</li><li style="font-family: Arial\, Helvetica\, sans-serif\;">Attend classes and start your career in water!</li></ol></body></html>
LOCATION:2500 Clean Water Court Buford GA 30519
UID:e.2302.1446116
SEQUENCE:3
DTSTAMP:20260425T195543Z
URL:https://members.theh2otower.org/calendar/Details/wastewater-laboratory-analyst-1712826?sourceTypeId=Hub
END:VEVENT
END:VCALENDAR
