BEGIN:VCALENDAR
VERSION:2.0
PRODID:-//ChamberMaster//Event Calendar 2.0//EN
METHOD:PUBLISH
X-PUBLISHED-TTL:P1H
REFRESH-INTERVAL:P1H
CALSCALE:GREGORIAN
BEGIN:VTIMEZONE
TZID:America/New_York
BEGIN:DAYLIGHT
RRULE:FREQ=YEARLY;BYMONTH=3;BYDAY=2SU
DTSTART:20070101T000000
TZOFFSETFROM:-0500
TZOFFSETTO:-0400
TZNAME:Eastern Daylight Time
END:DAYLIGHT
BEGIN:STANDARD
RRULE:FREQ=YEARLY;BYMONTH=11;BYDAY=1SU
DTSTART:20070101T000000
TZOFFSETFROM:-0400
TZOFFSETTO:-0500
TZNAME:Eastern Standard Time
END:STANDARD
END:VTIMEZONE
BEGIN:VEVENT
DTSTART;VALUE=DATE:20260608
DTEND;VALUE=DATE:20260613
TRANSP:TRANSPARENT
X-MICROSOFT-CDO-ALLDAYEVENT:TRUE
SUMMARY:Meter Maintenance Technician
DESCRIPTION:ABOUTThe Water Meter Maintenance Technician Certificate course is an introductory workforce training designed to prepare participants for entry-level roles supporting water utility meter operations. Participants may enroll in Level I only or both Level I and Level II for a more comprehensive experience.The course provides foundational knowledge and hands-on exposure to water meters\, meter reading technologies\, safety practices\, documentation\, and customer interaction.WHO SHOULD ATTENDThis course is ideal for Individuals interested in starting a career in entry-level field positions such as being a meter reader or meter technicianEntry-level utility employees seeking foundational meter knowledge and field readiness skillsCurrent water sector employees seeking formal training to strengthen foundational meter knowledge and support career advancementCOURSE SCHEDULEThe full course includes four days of instruction plus an assessment.Participants may register for:Level I only (2 days)Level I + Level II (4 days total)Participants are expected to attend all sessions for their selected level(s)\, arrive on time\, and stay for the full duration of each session.Level I: Field Readiness   Meter Installation\, Maintenance & Troubleshooting (2 days)Focus: Physical meters\, field safety\, installation\, repair\, and on-site problem solvingAudience: New meter technicians\, field staff\, installers\, maintenance crewsOutcome: Participants are field-ready to safely install\, maintain\, and troubleshoot metersLevel II: Meter Data and Systems   AMI/AMR\, Reading\, and Billing Integration (2 days)Focus: Data flow\, meter reading technologies\, system verification\, and revenue connectionAudience: Meter technicians advancing into reading\, AMI support\, data verification\, or cross-functional rolesOutcome: Participants understand how meter data moves from the field to billing and decision-making systemsREGISTRATIONRegistration fees are covered by TWT through a grant. To register\, follow the steps below:Visit WaterNeedsYou.org and click on the "Meters" page to learn more about course offerings and job requirementsSubmit the inquiry form (found on the Meters page)\, and specify whether you are taking Level I or Level I & IIEmail communication and potential facility tour with TWT Staff\, and complete registration formAttend classes and start your career in water!
X-ALT-DESC;FMTTYPE=text/html:<!DOCTYPE html><html><head><title></title></head><body aria-disabled="false"><p style="margin: 0px 0px 17px\; padding: 0px\; border: 0px\; outline: 0px\; font-size: 15px\; color: rgb(74\, 74\, 74)\; font-family: Roboto\, Arial\, Helvetica\, sans-serif\; font-style: normal\; font-variant-ligatures: normal\; font-variant-caps: normal\; font-weight: 400\; letter-spacing: normal\; orphans: 2\; text-align: start\; text-indent: 0px\; text-transform: none\; white-space: normal\; widows: 2\; word-spacing: 0px\; -webkit-text-stroke-width: 0px\; text-decoration-thickness: initial\; text-decoration-style: initial\; text-decoration-color: initial\;"><strong fr-original-style="" style="font-weight: 700\;"><span style="font-family: Arial\, Helvetica\, sans-serif\; font-size: 18px\;">ABOUT</span></strong></p><p>The Water Meter Maintenance Technician Certificate course is an introductory workforce training designed to prepare participants for entry-level roles supporting water utility meter operations. Participants may enroll in Level I only or both Level I and Level II for a more comprehensive experience.</p><p>The course provides foundational knowledge and hands-on exposure to water meters\, meter reading technologies\, safety practices\, documentation\, and customer interaction.</p><p><strong fr-original-style="" style="font-weight: 700\;">WHO SHOULD ATTEND</strong></p><p><span style="font-family: Arial\,Helvetica\,sans-serif\;"><span style="font-size: 18px\;">This course is ideal for&hellip\;</span></span></p><ul fr-original-style="" style="list-style-position: inside\;"><li style="font-family: Arial\, Helvetica\, sans-serif\; font-size: 18px\;">Individuals interested in starting a career in entry-level field positions such as being a meter reader or meter technician</li><li style="font-family: Arial\, Helvetica\, sans-serif\; font-size: 18px\;">Entry-level utility employees seeking foundational meter knowledge and field readiness skills</li><li style="font-family: Arial\, Helvetica\, sans-serif\; font-size: 18px\;">Current water sector employees seeking formal training to strengthen foundational meter knowledge and support career advancement</li></ul><p style="box-sizing: border-box\; margin: 0px 0px 1rem\; color: rgb(73\, 73\, 73)\; font-family: Montserrat\, sans-serif\; font-size: 16px\; font-style: normal\; font-variant-ligatures: normal\; font-variant-caps: normal\; font-weight: 400\; letter-spacing: normal\; orphans: 2\; text-align: start\; text-indent: 0px\; text-transform: none\; widows: 2\; word-spacing: 0px\; -webkit-text-stroke-width: 0px\; white-space: normal\; background-color: rgb(255\, 255\, 255)\; text-decoration-thickness: initial\; text-decoration-style: initial\; text-decoration-color: initial\;"><span style="font-family: Arial\,Helvetica\,sans-serif\;"><span style="font-size: 18px\;"><span style="box-sizing: border-box\;"><strong fr-original-style="box-sizing: border-box\; font-weight: 700\;" style="box-sizing: border-box\; font-weight: 700\;">COURSE SCHEDULE</strong></span></span></span></p><p>The full course includes four days of instruction plus an assessment.</p><p>Participants may register for:</p><ul fr-original-style="" style="list-style-position: inside\;"><li>Level I only (2 days)</li><li>Level I + Level II (4 days total)</li></ul><p>Participants are expected to attend all sessions for their selected level(s)\, arrive on time\, and stay for the full duration of each session.</p><p><em>Level I: Field Readiness &ndash\; Meter Installation\, Maintenance &amp\; Troubleshooting (2 days)</em></p><ul fr-original-style="" style="list-style-position: inside\;"><li>Focus: Physical meters\, field safety\, installation\, repair\, and on-site problem solving</li><li>Audience: New meter technicians\, field staff\, installers\, maintenance crews</li><li>Outcome: Participants are field-ready to safely install\, maintain\, and troubleshoot meters</li></ul><p><em>Level II: Meter Data and Systems &ndash\; AMI/AMR\, Reading\, and Billing Integration (2 days)</em></p><ul fr-original-style="" style="list-style-position: inside\;"><li>Focus: Data flow\, meter reading technologies\, system verification\, and revenue connection</li><li>Audience: Meter technicians advancing into reading\, AMI support\, data verification\, or cross-functional roles</li><li>Outcome: Participants understand how meter data moves from the field to billing and decision-making systems</li></ul><p style="box-sizing: border-box\; margin: 0px 0px 1rem\; color: rgb(73\, 73\, 73)\; font-family: Montserrat\, sans-serif\; font-size: 16px\; font-style: normal\; font-variant-ligatures: normal\; font-variant-caps: normal\; font-weight: 400\; letter-spacing: normal\; orphans: 2\; text-align: start\; text-indent: 0px\; text-transform: none\; widows: 2\; word-spacing: 0px\; -webkit-text-stroke-width: 0px\; white-space: normal\; background-color: rgb(255\, 255\, 255)\; text-decoration-thickness: initial\; text-decoration-style: initial\; text-decoration-color: initial\;"><span style="font-family: Arial\,Helvetica\,sans-serif\;"><span style="font-size: 18px\;"><span style="box-sizing: border-box\;"><strong fr-original-style="box-sizing: border-box\; font-weight: 700\;" style="box-sizing: border-box\; font-weight: 700\;">REGISTRATION</strong></span></span></span></p><p>Registration fees are covered by TWT through a grant. To register\, follow the steps below:</p><ol fr-original-style="" style="list-style-position: inside\;"><li>Visit <a fr-original-style="" href="http://WaterNeedsYou.org" rel="noopener noreferrer" style="user-select: auto\;" target="_blank">WaterNeedsYou.org</a> and click on the &ldquo\;Meters&rdquo\; page to learn more about course offerings and job requirements</li><li>Submit the inquiry form (found on the Meters page)\, and specify whether you are taking Level I or Level I &amp\; II</li><li>Email communication and potential facility tour with TWT Staff\, and complete registration form</li><li>Attend classes and start your career in water!</li></ol></body></html>
LOCATION:2500 Clean Water Court Buford GA 30519
UID:e.2302.1446164
SEQUENCE:3
DTSTAMP:20260425T195635Z
URL:https://members.theh2otower.org/calendar/Details/meter-maintenance-technician-1712873?sourceTypeId=Hub
END:VEVENT
END:VCALENDAR
