BEGIN:VCALENDAR
VERSION:2.0
PRODID:-//ChamberMaster//Event Calendar 2.0//EN
METHOD:PUBLISH
X-PUBLISHED-TTL:P1H
REFRESH-INTERVAL:P1H
CALSCALE:GREGORIAN
BEGIN:VTIMEZONE
TZID:America/New_York
BEGIN:DAYLIGHT
RRULE:FREQ=YEARLY;BYMONTH=3;BYDAY=2SU
DTSTART:20070101T000000
TZOFFSETFROM:-0500
TZOFFSETTO:-0400
TZNAME:Eastern Daylight Time
END:DAYLIGHT
BEGIN:STANDARD
RRULE:FREQ=YEARLY;BYMONTH=11;BYDAY=1SU
DTSTART:20070101T000000
TZOFFSETFROM:-0400
TZOFFSETTO:-0500
TZNAME:Eastern Standard Time
END:STANDARD
END:VTIMEZONE
BEGIN:VEVENT
DTSTART;VALUE=DATE:20260603
DTEND;VALUE=DATE:20260604
TRANSP:TRANSPARENT
X-MICROSOFT-CDO-ALLDAYEVENT:TRUE
SUMMARY:Collection System Operator_Utility Staff
DESCRIPTION:ABOUTThis class is for utility staff interested in obtaining a GA Collection Systems Operator certification. The course covers the design\, installation\, inspection and repair of a wastewater collection system. This course provides the required training hours for the GA Collection Systems Operator certification (27 hours) and meet the WPI  Need-to-Know criteria. COURSE SCHEDULEThis course is virtual only\, with a live instructor and asynchronous assignments. The class will meet virtually\, on Wednesdays\, from June 3rd through August 5th\, from 9am-11:30am. Weekly online assignments will be posted on Google Classroom. Participation in instructor led session and completion of weekly virtual assignments are required for attendance. MAJOR TOPICS:Collection System MathCollection System ComponentsSystem Maintenance and InspectionSafetyPumps & PumpingLift station managementREGISTRATIONRegistration Fee: $385This class is for individuals who are already working at a utility\, in the skilled trades pathways. Use the registration link below to sign up for the class. Link to the virtual session will be emailed to registrants two days before the start of the class.
X-ALT-DESC;FMTTYPE=text/html:<!DOCTYPE html><html><head><title></title></head><body aria-disabled="false"><p style="margin: 0px 0px 17px\; padding: 0px\; border: 0px\; outline: 0px\; font-size: 15px\; color: rgb(74\, 74\, 74)\; font-family: Roboto\, Arial\, Helvetica\, sans-serif\; font-style: normal\; font-variant-ligatures: normal\; font-variant-caps: normal\; font-weight: 400\; letter-spacing: normal\; orphans: 2\; text-align: start\; text-indent: 0px\; text-transform: none\; white-space: normal\; widows: 2\; word-spacing: 0px\; -webkit-text-stroke-width: 0px\; text-decoration-thickness: initial\; text-decoration-style: initial\; text-decoration-color: initial\;"><strong fr-original-style="" style="font-weight: 700\;">ABOUT</strong></p><p style="margin: 0px 0px 17px\; padding: 0px\; border: 0px\; outline: 0px\; font-style: normal\; font-variant-ligatures: normal\; font-variant-caps: normal\; font-weight: 400\; letter-spacing: normal\; orphans: 2\; text-align: start\; text-indent: 0px\; text-transform: none\; white-space: normal\; widows: 2\; word-spacing: 0px\; -webkit-text-stroke-width: 0px\; text-decoration-thickness: initial\; text-decoration-style: initial\; text-decoration-color: initial\;"><span style="color: rgb(74\, 74\, 74)\; font-family: Roboto\, Arial\, Helvetica\, sans-serif\; font-size: 15px\;">This class is for utility staff interested in obtaining a GA Collection Systems Operator certification. The course covers the design\, installation\, inspection and repair of a wastewater collection system. This course provides the required training hours for the GA Collection Systems Operator certification (27 hours) and meet the WPI &nbsp\;Need-to-Know criteria.&nbsp\;</span></p><p style="box-sizing: border-box\; margin: 0px 0px 1rem\; color: rgb(73\, 73\, 73)\; font-family: Montserrat\, sans-serif\; font-size: 16px\; font-style: normal\; font-variant-ligatures: normal\; font-variant-caps: normal\; font-weight: 400\; letter-spacing: normal\; orphans: 2\; text-align: start\; text-indent: 0px\; text-transform: none\; widows: 2\; word-spacing: 0px\; -webkit-text-stroke-width: 0px\; white-space: normal\; background-color: rgb(255\, 255\, 255)\; text-decoration-thickness: initial\; text-decoration-style: initial\; text-decoration-color: initial\;"><span style="box-sizing: border-box\; font-family: Arial\, Helvetica\, sans-serif\;"><strong fr-original-style="box-sizing: border-box\; font-weight: 700\;" style="box-sizing: border-box\; font-weight: 700\;">COURSE SCHEDULE</strong></span></p><p style="box-sizing: border-box\; margin: 0px 0px 1rem\; color: rgb(73\, 73\, 73)\; font-family: Montserrat\, sans-serif\; font-size: 16px\; font-style: normal\; font-variant-ligatures: normal\; font-variant-caps: normal\; font-weight: 400\; letter-spacing: normal\; orphans: 2\; text-align: start\; text-indent: 0px\; text-transform: none\; widows: 2\; word-spacing: 0px\; -webkit-text-stroke-width: 0px\; white-space: normal\; background-color: rgb(255\, 255\, 255)\; text-decoration-thickness: initial\; text-decoration-style: initial\; text-decoration-color: initial\;"><span style="box-sizing: border-box\; font-family: Arial\, Helvetica\, sans-serif\;">This course is virtual only\, with a live instructor and asynchronous assignments. The class will meet virtually\, on Wednesdays\, from June 3rd through August 5th\, from 9am-11:30am. Weekly online assignments will be posted on Google Classroom. Participation in instructor led session and completion of weekly virtual assignments are required for attendance.&nbsp\;</span></p><p style="margin: 0px 0px 17px\; padding: 0px\; border: 0px\; outline: 0px\; font-size: 15px\; color: rgb(74\, 74\, 74)\; font-family: Roboto\, Arial\, Helvetica\, sans-serif\; font-style: normal\; font-variant-ligatures: normal\; font-variant-caps: normal\; font-weight: 400\; letter-spacing: normal\; orphans: 2\; text-align: start\; text-indent: 0px\; text-transform: none\; white-space: normal\; widows: 2\; word-spacing: 0px\; -webkit-text-stroke-width: 0px\; text-decoration-thickness: initial\; text-decoration-style: initial\; text-decoration-color: initial\;"><strong fr-original-style="margin: 0px\; padding: 0px\; border: 0px\; outline: 0px\; font-size: 15px\;" style="margin: 0px\; padding: 0px\; border: 0px\; outline: 0px\; font-size: 15px\; font-weight: 700\;">MAJOR TOPICS:</strong></p><ul fr-original-style="margin: 18px 0px 18px 40px\; padding: 0px\; border: 0px\; outline: 0px\; font-size: 15px\; list-style: disc\; color: rgb(74\, 74\, 74)\; font-family: Roboto\, Arial\, Helvetica\, sans-serif\; font-style: normal\; font-variant-ligatures: normal\; font-variant-caps: normal\; font-weight: 400\; letter-spacing: normal\; orphans: 2\; text-align: start\; text-indent: 0px\; text-transform: none\; white-space: normal\; widows: 2\; word-spacing: 0px\; -webkit-text-stroke-width: 0px\; text-decoration-thickness: initial\; text-decoration-style: initial\; text-decoration-color: initial\;" style="margin: 18px 0px 18px 40px\; padding: 0px\; border: 0px\; outline: 0px\; font-size: 15px\; list-style: disc\; color: rgb(74\, 74\, 74)\; font-family: Roboto\, Arial\, Helvetica\, sans-serif\; font-style: normal\; font-variant-ligatures: normal\; font-variant-caps: normal\; font-weight: 400\; letter-spacing: normal\; orphans: 2\; text-align: start\; text-indent: 0px\; text-transform: none\; white-space: normal\; widows: 2\; word-spacing: 0px\; -webkit-text-stroke-width: 0px\; text-decoration-thickness: initial\; text-decoration-style: initial\; text-decoration-color: initial\;"><li style="margin: 0px\; padding: 0px\; border: 0px\; outline: 0px\; font-size: 15px\;">Collection System Math</li><li style="margin: 0px\; padding: 0px\; border: 0px\; outline: 0px\; font-size: 15px\;">Collection System Components</li><li style="margin: 0px\; padding: 0px\; border: 0px\; outline: 0px\; font-size: 15px\;">System Maintenance and Inspection</li><li style="margin: 0px\; padding: 0px\; border: 0px\; outline: 0px\; font-size: 15px\;">Safety</li><li style="margin: 0px\; padding: 0px\; border: 0px\; outline: 0px\; font-size: 15px\;">Pumps &amp\; Pumping</li><li style="margin: 0px\; padding: 0px\; border: 0px\; outline: 0px\; font-size: 15px\;">Lift station management</li></ul><p style="box-sizing: border-box\; margin: 0px 0px 1rem\; color: rgb(73\, 73\, 73)\; font-family: Montserrat\, sans-serif\; font-size: 16px\; font-style: normal\; font-variant-ligatures: normal\; font-variant-caps: normal\; font-weight: 400\; letter-spacing: normal\; orphans: 2\; text-align: start\; text-indent: 0px\; text-transform: none\; widows: 2\; word-spacing: 0px\; -webkit-text-stroke-width: 0px\; white-space: normal\; background-color: rgb(255\, 255\, 255)\; text-decoration-thickness: initial\; text-decoration-style: initial\; text-decoration-color: initial\;"><span style="box-sizing: border-box\; font-family: Arial\, Helvetica\, sans-serif\;"><strong fr-original-style="box-sizing: border-box\; font-weight: 700\;" style="box-sizing: border-box\; font-weight: 700\;">REGISTRATION</strong></span></p><p style="box-sizing: border-box\; margin: 0px 0px 1rem\; color: rgb(73\, 73\, 73)\; font-family: Montserrat\, sans-serif\; font-size: 16px\; font-style: normal\; font-variant-ligatures: normal\; font-variant-caps: normal\; font-weight: 400\; letter-spacing: normal\; orphans: 2\; text-align: start\; text-indent: 0px\; text-transform: none\; widows: 2\; word-spacing: 0px\; -webkit-text-stroke-width: 0px\; white-space: normal\; background-color: rgb(255\, 255\, 255)\; text-decoration-thickness: initial\; text-decoration-style: initial\; text-decoration-color: initial\;">Registration Fee: $385</p><p style="box-sizing: border-box\; margin: 0px 0px 1rem\; color: rgb(73\, 73\, 73)\; font-family: Montserrat\, sans-serif\; font-size: 16px\; font-style: normal\; font-variant-ligatures: normal\; font-variant-caps: normal\; font-weight: 400\; letter-spacing: normal\; orphans: 2\; text-align: start\; text-indent: 0px\; text-transform: none\; widows: 2\; word-spacing: 0px\; -webkit-text-stroke-width: 0px\; white-space: normal\; background-color: rgb(255\, 255\, 255)\; text-decoration-thickness: initial\; text-decoration-style: initial\; text-decoration-color: initial\;"><span style="box-sizing: border-box\; font-family: Arial\, Helvetica\, sans-serif\;">This class is for individuals who are already working at a utility\, in the skilled trades pathways. Use the registration link below to sign up for the class. Link to the virtual session will be emailed to registrants two days before the start of the class.&nbsp\;</span></p></body></html>
LOCATION:2500 Clean Water Court Buford GA 30519
UID:e.2302.1446153
SEQUENCE:3
DTSTAMP:20260425T195910Z
URL:https://members.theh2otower.org/calendar/Details/collection-system-operator-utility-staff-1712862?sourceTypeId=Hub
END:VEVENT
END:VCALENDAR
