BEGIN:VCALENDAR
VERSION:2.0
PRODID:-//ChamberMaster//Event Calendar 2.0//EN
METHOD:PUBLISH
X-PUBLISHED-TTL:P1H
REFRESH-INTERVAL:P1H
CALSCALE:GREGORIAN
BEGIN:VTIMEZONE
TZID:America/New_York
BEGIN:DAYLIGHT
RRULE:FREQ=YEARLY;BYMONTH=3;BYDAY=2SU
DTSTART:20070101T000000
TZOFFSETFROM:-0500
TZOFFSETTO:-0400
TZNAME:Eastern Daylight Time
END:DAYLIGHT
BEGIN:STANDARD
RRULE:FREQ=YEARLY;BYMONTH=11;BYDAY=1SU
DTSTART:20070101T000000
TZOFFSETFROM:-0400
TZOFFSETTO:-0500
TZNAME:Eastern Standard Time
END:STANDARD
END:VTIMEZONE
BEGIN:VEVENT
DTSTART;VALUE=DATE:20260602
DTEND;VALUE=DATE:20260603
TRANSP:TRANSPARENT
X-MICROSOFT-CDO-ALLDAYEVENT:TRUE
SUMMARY:Collection System Operator_Entry Level
DESCRIPTION:ABOUTThis class is for anyone interested in obtaining a GA Collection Systems Operator certification\, who does not currently work at a utility. The course covers the design\, installation\, inspection and repair of a wastewater collection system. This course provides the required training hours for the GA Collection Systems Operator certification (27 hours) and meets the WPI Needs-to-Know topics. COURSE SCHEDULEIn person attendance is required. The class will meet on the TWT campus once a week\, on Tuesdays\, from June 2nd through August 4th\, from 9am-3pm. Weekly online assignments will be posted on Google Classroom. In-person attendance and completion of weekly virtual assignments are required for attendance. MAJOR TOPICS:Collection System MathCollection System ComponentsSystem Maintenance and InspectionSafetyPumps & PumpingLift station managementWHO CAN ATTEND AND REGISTRATIONThis class is for entry level trainees\, who are not currently working at a utility. Registration fees are covered by TWT\, through a grant. To register\, follow the steps below:Visit WaterNeedsYou.org to learn more about course offerings and to complete the Career Navigation resources.Complete the Career Navigation resources\, housed on the WaterNeedsYou.org website. Submit the inquiry form application form (found in the Career Navigation resources).Tour a water or wastewater facility\, and then submit a registration document (provided after tour).Attend classes and start your career in water!
X-ALT-DESC;FMTTYPE=text/html:<!DOCTYPE html><html><head><title></title></head><body aria-disabled="false"><p style="margin: 0px 0px 17px\; padding: 0px\; border: 0px\; outline: 0px\; font-size: 15px\; color: rgb(74\, 74\, 74)\; font-family: Roboto\, Arial\, Helvetica\, sans-serif\; font-style: normal\; font-variant-ligatures: normal\; font-variant-caps: normal\; font-weight: 400\; letter-spacing: normal\; orphans: 2\; text-align: start\; text-indent: 0px\; text-transform: none\; white-space: normal\; widows: 2\; word-spacing: 0px\; -webkit-text-stroke-width: 0px\; text-decoration-thickness: initial\; text-decoration-style: initial\; text-decoration-color: initial\;"><strong fr-original-style="" style="font-weight: 700\;">ABOUT</strong></p><p style="margin: 0px 0px 17px\; padding: 0px\; border: 0px\; outline: 0px\; font-style: normal\; font-variant-ligatures: normal\; font-variant-caps: normal\; font-weight: 400\; letter-spacing: normal\; orphans: 2\; text-align: start\; text-indent: 0px\; text-transform: none\; white-space: normal\; widows: 2\; word-spacing: 0px\; -webkit-text-stroke-width: 0px\; text-decoration-thickness: initial\; text-decoration-style: initial\; text-decoration-color: initial\;"><span style="color: rgb(74\, 74\, 74)\; font-family: Roboto\, Arial\, Helvetica\, sans-serif\; font-size: 15px\;">This class is for anyone interested in obtaining a GA Collection Systems Operator certification\, who does not currently work at a utility. The course covers the design\, installation\, inspection and repair of a wastewater collection system. This course provides the required training hours for the GA Collection Systems Operator certification (27 hours)&nbsp\;</span><font color="#4a4a4a" face="Roboto\, Arial\, Helvetica\, sans-serif"><span style="font-size: 15px\;">and meets the WPI Needs-to-Know topics.&nbsp\;</span></font></p><p style="box-sizing: border-box\; margin: 0px 0px 1rem\; color: rgb(73\, 73\, 73)\; font-family: Montserrat\, sans-serif\; font-size: 16px\; font-style: normal\; font-variant-ligatures: normal\; font-variant-caps: normal\; font-weight: 400\; letter-spacing: normal\; orphans: 2\; text-align: start\; text-indent: 0px\; text-transform: none\; widows: 2\; word-spacing: 0px\; -webkit-text-stroke-width: 0px\; white-space: normal\; background-color: rgb(255\, 255\, 255)\; text-decoration-thickness: initial\; text-decoration-style: initial\; text-decoration-color: initial\;"><span style="box-sizing: border-box\; font-family: Arial\, Helvetica\, sans-serif\;"><strong fr-original-style="box-sizing: border-box\; font-weight: 700\;" style="box-sizing: border-box\; font-weight: 700\;">COURSE SCHEDULE</strong></span></p><p style="box-sizing: border-box\; margin: 0px 0px 1rem\; color: rgb(73\, 73\, 73)\; font-family: Montserrat\, sans-serif\; font-size: 16px\; font-style: normal\; font-variant-ligatures: normal\; font-variant-caps: normal\; font-weight: 400\; letter-spacing: normal\; orphans: 2\; text-align: start\; text-indent: 0px\; text-transform: none\; widows: 2\; word-spacing: 0px\; -webkit-text-stroke-width: 0px\; white-space: normal\; background-color: rgb(255\, 255\, 255)\; text-decoration-thickness: initial\; text-decoration-style: initial\; text-decoration-color: initial\;"><span style="box-sizing: border-box\; font-family: Arial\, Helvetica\, sans-serif\;">In person attendance is required. The class will meet on the TWT campus once a week\, on Tuesdays\, from June 2nd through August 4th\, from 9am-3pm. Weekly online assignments will be posted on Google Classroom. In-person attendance and completion of weekly virtual assignments are required for attendance.&nbsp\;</span></p><p style="margin: 0px 0px 17px\; padding: 0px\; border: 0px\; outline: 0px\; font-size: 15px\; color: rgb(74\, 74\, 74)\; font-family: Roboto\, Arial\, Helvetica\, sans-serif\; font-style: normal\; font-variant-ligatures: normal\; font-variant-caps: normal\; font-weight: 400\; letter-spacing: normal\; orphans: 2\; text-align: start\; text-indent: 0px\; text-transform: none\; white-space: normal\; widows: 2\; word-spacing: 0px\; -webkit-text-stroke-width: 0px\; text-decoration-thickness: initial\; text-decoration-style: initial\; text-decoration-color: initial\;"><strong fr-original-style="margin: 0px\; padding: 0px\; border: 0px\; outline: 0px\; font-size: 15px\;" style="margin: 0px\; padding: 0px\; border: 0px\; outline: 0px\; font-size: 15px\; font-weight: 700\;">MAJOR TOPICS:</strong></p><ul fr-original-style="margin: 18px 0px 18px 40px\; padding: 0px\; border: 0px\; outline: 0px\; font-size: 15px\; list-style: disc\; color: rgb(74\, 74\, 74)\; font-family: Roboto\, Arial\, Helvetica\, sans-serif\; font-style: normal\; font-variant-ligatures: normal\; font-variant-caps: normal\; font-weight: 400\; letter-spacing: normal\; orphans: 2\; text-align: start\; text-indent: 0px\; text-transform: none\; white-space: normal\; widows: 2\; word-spacing: 0px\; -webkit-text-stroke-width: 0px\; text-decoration-thickness: initial\; text-decoration-style: initial\; text-decoration-color: initial\;" style="margin: 18px 0px 18px 40px\; padding: 0px\; border: 0px\; outline: 0px\; font-size: 15px\; list-style: disc\; color: rgb(74\, 74\, 74)\; font-family: Roboto\, Arial\, Helvetica\, sans-serif\; font-style: normal\; font-variant-ligatures: normal\; font-variant-caps: normal\; font-weight: 400\; letter-spacing: normal\; orphans: 2\; text-align: start\; text-indent: 0px\; text-transform: none\; white-space: normal\; widows: 2\; word-spacing: 0px\; -webkit-text-stroke-width: 0px\; text-decoration-thickness: initial\; text-decoration-style: initial\; text-decoration-color: initial\;"><li style="margin: 0px\; padding: 0px\; border: 0px\; outline: 0px\; font-size: 15px\;">Collection System Math</li><li style="margin: 0px\; padding: 0px\; border: 0px\; outline: 0px\; font-size: 15px\;">Collection System Components</li><li style="margin: 0px\; padding: 0px\; border: 0px\; outline: 0px\; font-size: 15px\;">System Maintenance and Inspection</li><li style="margin: 0px\; padding: 0px\; border: 0px\; outline: 0px\; font-size: 15px\;">Safety</li><li style="margin: 0px\; padding: 0px\; border: 0px\; outline: 0px\; font-size: 15px\;">Pumps &amp\; Pumping</li><li style="margin: 0px\; padding: 0px\; border: 0px\; outline: 0px\; font-size: 15px\;">Lift station management</li></ul><p style="box-sizing: border-box\; margin: 0px 0px 1rem\; color: rgb(73\, 73\, 73)\; font-family: Montserrat\, sans-serif\; font-size: 16px\; font-style: normal\; font-variant-ligatures: normal\; font-variant-caps: normal\; font-weight: 400\; letter-spacing: normal\; orphans: 2\; text-align: start\; text-indent: 0px\; text-transform: none\; widows: 2\; word-spacing: 0px\; -webkit-text-stroke-width: 0px\; white-space: normal\; background-color: rgb(255\, 255\, 255)\; text-decoration-thickness: initial\; text-decoration-style: initial\; text-decoration-color: initial\;"><span style="box-sizing: border-box\; font-family: Arial\, Helvetica\, sans-serif\;"><strong fr-original-style="box-sizing: border-box\; font-weight: 700\;" style="box-sizing: border-box\; font-weight: 700\;">WHO CAN ATTEND AND REGISTRATION</strong></span></p><p style="box-sizing: border-box\; margin: 0px 0px 1rem\; color: rgb(73\, 73\, 73)\; font-family: Montserrat\, sans-serif\; font-size: 16px\; font-style: normal\; font-variant-ligatures: normal\; font-variant-caps: normal\; font-weight: 400\; letter-spacing: normal\; orphans: 2\; text-align: start\; text-indent: 0px\; text-transform: none\; widows: 2\; word-spacing: 0px\; -webkit-text-stroke-width: 0px\; white-space: normal\; background-color: rgb(255\, 255\, 255)\; text-decoration-thickness: initial\; text-decoration-style: initial\; text-decoration-color: initial\;"><span style="box-sizing: border-box\; font-family: Arial\, Helvetica\, sans-serif\;">This class is for entry level trainees\, who are not currently working at a utility. Registration fees are covered by TWT\, through a grant. To register\, follow the steps below:</span></p><ol fr-original-style="box-sizing: border-box\; margin-top: 0px\; margin-bottom: 1rem\; color: rgb(73\, 73\, 73)\; font-family: Montserrat\, sans-serif\; font-size: 16px\; font-style: normal\; font-variant-ligatures: normal\; font-variant-caps: normal\; font-weight: 400\; letter-spacing: normal\; orphans: 2\; text-align: start\; text-indent: 0px\; text-transform: none\; widows: 2\; word-spacing: 0px\; -webkit-text-stroke-width: 0px\; white-space: normal\; background-color: rgb(255\, 255\, 255)\; text-decoration-thickness: initial\; text-decoration-style: initial\; text-decoration-color: initial\; list-style-position: inside\;" style="box-sizing: border-box\; margin-top: 0px\; margin-bottom: 1rem\; color: rgb(73\, 73\, 73)\; font-family: Montserrat\, sans-serif\; font-size: 16px\; font-style: normal\; font-variant-ligatures: normal\; font-variant-caps: normal\; font-weight: 400\; letter-spacing: normal\; orphans: 2\; text-align: start\; text-indent: 0px\; text-transform: none\; widows: 2\; word-spacing: 0px\; -webkit-text-stroke-width: 0px\; white-space: normal\; background-color: rgb(255\, 255\, 255)\; text-decoration-thickness: initial\; text-decoration-style: initial\; text-decoration-color: initial\; list-style-position: inside\;"><li style="box-sizing: border-box\; font-family: Arial\, Helvetica\, sans-serif\;">Visit <a fr-original-style="box-sizing: border-box\; background-color: transparent\; color: rgb(33\, 120\, 186)\; text-decoration: none\; user-select: auto\;" href="https://waterneedsyou.org/" style="box-sizing: border-box\; background-color: transparent\; color: rgb(33\, 120\, 186)\; text-decoration: none\; user-select: auto\;">WaterNeedsYou.org</a> to learn more about course offerings and to complete the Career Navigation resources.</li><li style="box-sizing: border-box\; font-family: Arial\, Helvetica\, sans-serif\;">Complete the Career Navigation resources\, housed on the <a fr-original-style="box-sizing: border-box\; background-color: transparent\; color: rgb(33\, 120\, 186)\; text-decoration: none\; user-select: auto\;" href="https://waterneedsyou.org/" style="box-sizing: border-box\; background-color: transparent\; color: rgb(33\, 120\, 186)\; text-decoration: none\; user-select: auto\;">WaterNeedsYou.org</a> website.&nbsp\;</li><li style="box-sizing: border-box\; font-family: Arial\, Helvetica\, sans-serif\;">Submit the inquiry form application form (found in the Career Navigation resources).</li><li style="box-sizing: border-box\; font-family: Arial\, Helvetica\, sans-serif\;">Tour a water or wastewater facility\, and then submit a registration document (provided after tour).</li><li style="box-sizing: border-box\; font-family: Arial\, Helvetica\, sans-serif\;">Attend classes and start your career in water!</li></ol></body></html>
LOCATION:2500 Clean Water Court Buford GA 30519
UID:e.2302.1446135
SEQUENCE:3
DTSTAMP:20260425T200119Z
URL:https://members.theh2otower.org/calendar/Details/collection-system-operator-entry-level-1712845?sourceTypeId=Hub
END:VEVENT
END:VCALENDAR
